BEGIN:VCALENDAR
VERSION:2.0
PRODID:-//hacksw/handcal//NONSGML v1.0//EN
CALSCALE:GREGORIAN
BEGIN:VEVENT
ORGANIZER;CN=Affiliated Managers Group, Inc.:MAILTO:no-reply@mail.gcs-web.com
DTEND:
UID:d70faac3-a7c9-4fd6-a88a-c1ba4196a1b9
DTSTAMP:1777048735
LOCATION:https://event.choruscall.com/mediaframe/webcast.html?webcastid=JtmqXT7R
DESCRIPTION:Event Details https://ir.amg.com/events/event-details/q1-2026-amg-earnings-conference-call\n\nWebcast: https://event.choruscall.com/mediaframe/webcast.html?webcastid=JtmqXT7R
URL;VALUE=URI:https://event.choruscall.com/mediaframe/webcast.html?webcastid=JtmqXT7R
SUMMARY:Affiliated Managers Group, Inc. - Q1 2026 AMG Earnings Conference Call
DTSTART:20260501T120000Z
END:VEVENT
END:VCALENDAR